BEGIN:VCALENDAR
VERSION:2.0
PRODID:-//Bureau of Justice Assistance//NONSGML Event Calendar//EN
BEGIN:VEVENT
UID:7968f3fc-10ed-4331-96cc-eeb136778ce4
DTSTART;TZID=UTC:20250225T203000
SEQUENCE:0
TRANSP:OPAQUE
DTEND;TZID=UTC:20250225T213000
LOCATION:https://www.bja.ojp.gov/events/tips-successful-ctas-applications-a
 laska-rural-communities
SUMMARY:Tips for Successful CTAS Applications for Alaska & Rural Communitie
 s
CLASS:PUBLIC
DESCRIPTION:Learn more about this event: https://www.bja.ojp.gov/events/tip
 s-successful-ctas-applications-alaska-rural-communities
DTSTAMP:20260419T233210Z
END:VEVENT
END:VCALENDAR