BEGIN:VCALENDAR
VERSION:2.0
PRODID:-//Bureau of Justice Assistance//NONSGML Event Calendar//EN
BEGIN:VEVENT
UID:49cdc4c0-b578-44c5-9865-7293157683cb
DTSTART;TZID=UTC:20250122T180000
SEQUENCE:0
TRANSP:OPAQUE
DTEND;TZID=UTC:20250122T190000
LOCATION:https://www.bja.ojp.gov/events/ctas-budget-development
SUMMARY:CTAS Budget Development
CLASS:PUBLIC
DESCRIPTION:Learn more about this event: https://www.bja.ojp.gov/events/cta
 s-budget-development
DTSTAMP:20260419T233101Z
END:VEVENT
END:VCALENDAR