BEGIN:VCALENDAR
VERSION:2.0
PRODID:-//Bureau of Justice Assistance//NONSGML Event Calendar//EN
BEGIN:VEVENT
UID:5620f0ce-fe2c-4653-9f0e-167c96d3a4cb
DTSTART;TZID=UTC:20250304T180000
SEQUENCE:0
TRANSP:OPAQUE
DTEND;TZID=UTC:20250304T190000
LOCATION:https://www.bja.ojp.gov/events/ctas-justgrants-final-upload-qa
SUMMARY:CTAS JustGrants Final Upload Q&A
CLASS:PUBLIC
DESCRIPTION:Learn more about this event: https://www.bja.ojp.gov/events/cta
 s-justgrants-final-upload-qa
DTSTAMP:20260419T233248Z
END:VEVENT
END:VCALENDAR