BEGIN:VCALENDAR
VERSION:2.0
PRODID:-//Bureau of Justice Assistance//NONSGML Event Calendar//EN
BEGIN:VEVENT
UID:36ad18c6-4dc3-46a9-b6c7-8eee68f3fa06
DTSTART;TZID=UTC:20250213T180000
SEQUENCE:0
TRANSP:OPAQUE
DTEND;TZID=UTC:20250213T190000
LOCATION:https://www.bja.ojp.gov/events/ctas-purpose-area-2-0
SUMMARY:CTAS Purpose Area 2
CLASS:PUBLIC
DESCRIPTION:Learn more about this event: https://www.bja.ojp.gov/events/cta
 s-purpose-area-2-0
DTSTAMP:20260419T221300Z
END:VEVENT
END:VCALENDAR