BEGIN:VCALENDAR
VERSION:2.0
PRODID:-//Bureau of Justice Assistance//NONSGML Event Calendar//EN
BEGIN:VEVENT
UID:972cde8e-d778-4f4b-8a3b-1bc92fbabafc
DTSTART;TZID=UTC:20250930T170000
SEQUENCE:0
TRANSP:OPAQUE
DTEND;TZID=UTC:20250930T180000
LOCATION:https://www.bja.ojp.gov/events/fy25-body-worn-camera-policy-and-im
 plementation-program-support-law-enforcement-agencies
SUMMARY:FY25 Body-Worn Camera Policy and Implementation Program to Support 
 Law Enforcement Agencies
CLASS:PUBLIC
DESCRIPTION:Learn more about this event: https://www.bja.ojp.gov/events/fy2
 5-body-worn-camera-policy-and-implementation-program-support-law-enforceme
 nt-agencies
DTSTAMP:20260423T003632Z
END:VEVENT
END:VCALENDAR