BEGIN:VCALENDAR
VERSION:2.0
PRODID:-//Bureau of Justice Assistance//NONSGML Event Calendar//EN
BEGIN:VEVENT
UID:24e4caa8-743c-42b1-adb4-312bbbabc6e5
DTSTART;TZID=UTC:20260414T180000
SEQUENCE:0
TRANSP:OPAQUE
DTEND;TZID=UTC:20260414T190000
LOCATION:https://www.bja.ojp.gov/events/fy25-comprehensive-opioid-stimulant
 -and-substance-use-site-based-program-cossup
SUMMARY:FY25 Comprehensive Opioid\, Stimulant\, and Substance Use\, Site-Ba
 sed Program (COSSUP)
CLASS:PUBLIC
DESCRIPTION:Learn more about this event: https://www.bja.ojp.gov/events/fy2
 5-comprehensive-opioid-stimulant-and-substance-use-site-based-program-coss
 up
DTSTAMP:20260422T164039Z
END:VEVENT
END:VCALENDAR